BEGIN:VCALENDAR
VERSION:2.0
PRODID:-//wp-events-plugin.com//7.2.3.1//EN
BEGIN:VEVENT
UID:4@nightjardiner.co
DTSTART;TZID=America/Regina:20230914T180000
DTEND;TZID=America/Regina:20230914T210000
DTSTAMP:20250802T052451Z
URL:https://nightjardiner.co/events/wine23/
SUMMARY:Wine Dinner!
DESCRIPTION:&nbsp\;\n$110/Guest (plus tax\, includes gratuity)\nJoin the Cu
 linary team at Nightjar Diner Co. in welcoming Chris Mooney from Set the B
 ar and explore with us five wine from around the globe.\nOn Thursday\, Sep
 tember 14th\, 2022\, Mooney &amp\; the Nightjar team will take guests on a
 n evening's journey through some of the truly stunning wines. Guests will 
 have the opportunity to enjoy both still and sparkling wines all paired wi
 th a five-course menu.\nFor Reservations:\nCall (306) 773-2749\nEmail rese
 rvations@nightjardiner.co\n\n*Due to the nature of this menu\, dietary res
 trictions or menu modifications are unable to be accommodated. Guests will
  be seated at two communal long tables.\n\nWine Dinner Menu\nMorgado da Vi
 la Vinho Verde (Portuguese Alvarinho)\nPomegranate Aguachile\nShrimp\, Pom
 egranate\, Citrus\, chili\, Radish\, Masa\n\n*\nKloster Eberbach Feinherb 
 (German Riesling)\nFish in Vegetable Ash with Curry\nWhite Fish\, Swiss Ch
 ard\, Red Curry\, Vegetable Ash\n\n*\nGilbert Rose Pet-Nat (Australian San
 giovese + Petit Verdot)\nQuail and Biscuits\nFried Quail\, Fermented Honey
 \, Garlic\, Sour Corn\, Buttermilk Biscuits\, House Made Butter\n\n*\nVina
  Falernia Reserva (Chilean Carmenere Syrah)\nShort Rib "Gochu-Bourgu"\nSpe
 ckle Park Short Rib\, Gochujang\, Daikon\, Carrot\, Potato Puree\n\n*\nGil
 bert Blanc Pet-Nat (Australian Reisling)\nMandarine &amp\; Butternut\nMand
 arine Sorbetto\, Butternut Crémeux\, Candied Butternut\, Sesame Crumb\n\n
 *\n*Menu subject to change based on product availability
LOCATION:Nightjar Diner Co.\, 325 Central Avenue North\, Swift Current\, Sa
 skatchewan\, S9H0L5\, Canada
X-APPLE-STRUCTURED-LOCATION;VALUE=URI;X-ADDRESS=325 Central Avenue North\, 
 Swift Current\, Saskatchewan\, S9H0L5\, Canada;X-APPLE-RADIUS=100;X-TITLE=
 Nightjar Diner Co.:geo:0,0
END:VEVENT
BEGIN:VTIMEZONE
TZID:America/Regina
X-LIC-LOCATION:America/Regina
BEGIN:STANDARD
DTSTART:20220914T180000
TZOFFSETFROM:-0600
TZOFFSETTO:-0600
TZNAME:CST
END:STANDARD
END:VTIMEZONE
END:VCALENDAR