BEGIN:VCALENDAR
VERSION:2.0
PRODID:-//wp-events-plugin.com//7.2.3.1//EN
BEGIN:VEVENT
UID:8@nightjardiner.co
DTSTART;TZID=America/Regina:20251121T180000
DTEND;TZID=America/Regina:20251121T210000
DTSTAMP:20251121T164541Z
URL:https://nightjardiner.co/events/wine-night-2025/
SUMMARY:Wine Night
DESCRIPTION:&nbsp\;\n$135/Guest (Tax &amp\; Gratuity Included)\nJoin the Cu
 linary team at Nightjar Diner Co. in welcoming Doug Reichel from Mira Wine
 s for a four-course evening of French wine &amp\; prairie-driven food.\nO
 n Friday\, November 21nd\, 2025\, the Nightjar team will be pouring four s
 mall-producer wines from Southern France\, each paired with a dish created
  for the night.\nFor Reservations:\nCall (306) 773-2749\nEmail reservation
 s@nightjardiner.co\n\n*Due to the nature of this menu\, dietary restrictio
 ns or menu modifications are unable to be accommodated. Guests will be sea
 ted at two communal long tables.\n\nWine Dinner Menu\n*\nDomaine Gayrad Ma
 uzac (2024)\nTare Skewers\, Two Ways\nSpeckle Park beef &amp\; heritage ch
 icken glazed in soy tare with crisp herbs\n\n*\nDomaine Lalaurie Alliance 
 Blanc (2024)\nTorched Heirloom Caprese\nTorched &amp\; fresh heirloom toma
 toes\, bocconcini\, basil soil\, balsamic &amp\; stracciatella\n\n*\nJonc 
 Blanc Racine (Rouge)\nLamb Crepinette\nCanadian lamb saddle with glazed ca
 rrots &amp\; jus\n\n*\nChâteau Rombeau Rivesaltes Grenat 2018\nChocolate 
 &amp\; Sourdough\nchocolate mousse\, sourdough\, malt\, gochujang caramel\
 , milk\, pepitas\n\n*\n*Menu subject to change based on product availabili
 ty
LOCATION:Nightjar Diner Co.\, 325 Central Avenue North\, Swift Current\, Sa
 skatchewan\, S9H0L5\, Canada
X-APPLE-STRUCTURED-LOCATION;VALUE=URI;X-ADDRESS=325 Central Avenue North\, 
 Swift Current\, Saskatchewan\, S9H0L5\, Canada;X-APPLE-RADIUS=100;X-TITLE=
 Nightjar Diner Co.:geo:0,0
END:VEVENT
BEGIN:VTIMEZONE
TZID:America/Regina
X-LIC-LOCATION:America/Regina
BEGIN:STANDARD
DTSTART:20241121T180000
TZOFFSETFROM:-0600
TZOFFSETTO:-0600
TZNAME:CST
END:STANDARD
END:VTIMEZONE
END:VCALENDAR