BEGIN:VCALENDAR
VERSION:2.0
PRODID:-//wp-events-plugin.com//7.2.3.1//EN
BEGIN:VEVENT
UID:3@nightjardiner.co
DTSTART:20230215T003000Z
DTEND:20230215T043000Z
DTSTAMP:20250802T052309Z
URL:https://nightjardiner.co/events/valentine2023/
SUMMARY:Valentine's Day
DESCRIPTION:$110 Three Course Prix Fixe Menu for Two\nBring your friends\, 
 bring your date\, bring yourself!\nReservations required. Two Seatings: 63
 0PM &amp\; 830PM.\nFor Reservations:\n\nCall (306) 773-2749\n\nEmail reser
 vations@nightjardiner.co\n\n&nbsp\;\n*Due to the nature of this menu\, die
 tary restrictions or menu modifications are unable to be accommodated. Gue
 sts will be seated at two communal long tables.\n\nValentine's Day!\nStart
 er\nPolenta and Butter Poached Prawn with Tobiko Caviar\n\n*\n16oz Striplo
 in\nBeef Striploin\, Confit Potato\, Apple Cream\, Fried Brussels Sprouts\
 n\n*\nDessert\nGateau Marjoline\n\n*
END:VEVENT
END:VCALENDAR