BEGIN:VCALENDAR
VERSION:2.0
PRODID:-//wp-events-plugin.com//7.2.3.1//EN
BEGIN:VEVENT
UID:1@nightjardiner.co
DTSTART;TZID=America/Regina:20220922T180000
DTEND;TZID=America/Regina:20220922T210000
DTSTAMP:20250802T052205Z
URL:https://nightjardiner.co/events/sake-dinner/
SUMMARY:Sake Dinner
DESCRIPTION:&nbsp\;\n$85/Guest\nJoin the Culinary team at Nightjar Diner Co
 . in welcoming sake legend\, Koreto Yamauchi\, for a Sake Pairing Dinner.\
 nOn Thursday\, September 22th\, 2022\, Koreto &amp\; the Nightjar team wil
 l take guests on an evening's journey through some of the Japan's most sou
 ght-after rice wines. Guests will have the opportunity to enjoy both Premi
 um Sake &amp\; Sake Cocktails to be paired with a four-course paired menu.
 \nFor Reservations:\n\nCall (306) 773-2749\n\nEmail reservations@nightjard
 iner.co\n\n&nbsp\;\n*Due to the nature of this menu\, dietary restrictions
  or menu modifications are unable to be accommodated. Guests will be seate
 d at two communal long tables.\n\n\n[caption id="attachment_852" align="al
 igncenter" width="945"] Sakegami X Nightjar Diner[/caption]\n\n&nbsp\;\nSa
 ke Dinner Menu\n&nbsp\;\nMasumi Sparkling Origirami\nCaesar Salad\nBurnt l
 emon Miso dressing\, hearty greens\, Honeyed lemon vinaigrette\, belly bac
 on bits\, Pangrattato\, Manchego\n\n*\nMasumi Shiro Junmai Ginjo\nCarrot C
 avatelli\nHandmade cavatelli\, Sage Brown Butter\, pickled carrot medallio
 ns\, carrot top pistu\, grana padano tamari crumb\n\n*\nFukucho "Seaside" 
 Junmai\nAmazake Cured Speckle Park\nSpeckle Park Strip Loin\, Amazake\, Bu
 tternut\, cultured cream\, caviar\, herbs\n\n*\nA Cocktail featuring Fukuc
 ho Yuzu Lemon\nFermented Pine Nut Sorbetto\nPine nut\, praline\, scorza\, 
 dulce de leche\n\n*\n*Menu subject to change based on product availability
LOCATION:Nightjar Diner Co.\, 325 Central Avenue North\, Swift Current\, Sa
 skatchewan\, S9H0L5\, Canada
X-APPLE-STRUCTURED-LOCATION;VALUE=URI;X-ADDRESS=325 Central Avenue North\, 
 Swift Current\, Saskatchewan\, S9H0L5\, Canada;X-APPLE-RADIUS=100;X-TITLE=
 Nightjar Diner Co.:geo:0,0
END:VEVENT
BEGIN:VTIMEZONE
TZID:America/Regina
X-LIC-LOCATION:America/Regina
BEGIN:STANDARD
DTSTART:20210922T180000
TZOFFSETFROM:-0600
TZOFFSETTO:-0600
TZNAME:CST
END:STANDARD
END:VTIMEZONE
END:VCALENDAR