BEGIN:VCALENDAR
VERSION:2.0
PRODID:-//wp-events-plugin.com//7.2.3.1//EN
BEGIN:VEVENT
UID:6@nightjardiner.co
DTSTART;TZID=America/Regina:20241129T180000
DTEND;TZID=America/Regina:20241129T210000
DTSTAMP:20250802T052414Z
URL:https://nightjardiner.co/events/rombeauwine/
SUMMARY:Wine Night
DESCRIPTION:&nbsp\;\n$125/Guest (Tax &amp\; Gratuity Included)\nJoin the Cu
 linary team at Nightjar Diner Co. in welcoming Philippe Raspaud of Domaine
  de Rombeau\, a sixth-generation wine maker\,  for a four-course evening 
 of wine &amp\; food.\nOn Friday\, November 29nd\, 2024\, the Nightjar team
  will take guests on an evening's journey through curated menu of locally 
 inspired dishes\, complementing the signature wines of Domaine de Rombeau\
 , one of the oldest and most respected vineyards in Roussillon\, France.\n
 For Reservations:\nCall (306) 773-2749\nEmail reservations@nightjardiner.c
 o\n\n*Due to the nature of this menu\, dietary restrictions or menu modifi
 cations are unable to be accommodated. Guests will be seated at two commun
 al long tables.\n\nWine Dinner Menu\n*\nRombeau le Botaniste Petit Manseng
 \nHalibut\nVanilla Salt-cured\, Champagne Cream with Tarragon Charcoal\, C
 onfit Fennel\n\n*\nThe Botanist - Fig. 4 - AOP Côtes du Roussillon Villag
 es\nDuck\nMallard Breast\, Black Berry Port Reduction\, Pomme Dauphinoise\
 , Radicchio\n\n*\nCuvée Élise\nPichaña Vera Cruz\nSmoked Coulette Steak
 \, Corn\, Stone Fruit\, Salsa Verde\n\n*\nRivesaltes Grenet\nChocolate Tar
 te\nDark Chocolate\, Caramel\, Pâte au Sucrée\n\n*\n*Menu subject to cha
 nge based on product availability
LOCATION:Nightjar Diner Co.\, 325 Central Avenue North\, Swift Current\, Sa
 skatchewan\, S9H0L5\, Canada
X-APPLE-STRUCTURED-LOCATION;VALUE=URI;X-ADDRESS=325 Central Avenue North\, 
 Swift Current\, Saskatchewan\, S9H0L5\, Canada;X-APPLE-RADIUS=100;X-TITLE=
 Nightjar Diner Co.:geo:0,0
END:VEVENT
BEGIN:VTIMEZONE
TZID:America/Regina
X-LIC-LOCATION:America/Regina
BEGIN:STANDARD
DTSTART:20231130T180000
TZOFFSETFROM:-0600
TZOFFSETTO:-0600
TZNAME:CST
END:STANDARD
END:VTIMEZONE
END:VCALENDAR