BEGIN:VCALENDAR
VERSION:2.0
PRODID:-//wp-events-plugin.com//7.2.3.1//EN
BEGIN:VEVENT
UID:2@nightjardiner.co
DTSTART:20221231T180000Z
DTEND:20221231T200000Z
DTSTAMP:20250802T052237Z
URL:https://nightjardiner.co/events/new-years-eve-brunch/
SUMMARY:New Year's Eve Brunch
DESCRIPTION:$45/Guest or $160/Tables of 4\nSay good riddance to 2022 with t
 he Culinary team at Nightjar Diner Co.\nOn Saturday\, December 31st\, 2022
 \, we'll be hosting a one-seating\, three course brunch. Cap off the year 
 right with Nightjar Diner Co. Reservations required. One Seating only.\nFo
 r Reservations:\n\nCall (306) 773-2749\n\nEmail reservations@nightjardiner
 .co\n\n&nbsp\;\n*Due to the nature of this menu\, dietary restrictions or 
 menu modifications are unable to be accommodated. Guests will be seated at
  two communal long tables.\n\nCelebrate the End of 2022 with Brunch!\nPast
 ry Basket\nMuffins &amp\; Cookies for the Table\n\n*\nSmoke Striploin\nSmo
 ked Beef Striploin\, Jumbo Prawns\, Bearnaise Sauce\, Rosti\n\n*\nPain Per
 du\nCreme Anglaise Bread Pudding with Egg Nog Ice Cream\, CT-Crunch\n\n*
END:VEVENT
END:VCALENDAR