BEGIN:VCALENDAR
VERSION:2.0
PRODID:-//wp-events-plugin.com//7.2.3.1//EN
BEGIN:VEVENT
UID:7@nightjardiner.co
DTSTART;TZID=America/Regina:20250320T180000
DTEND;TZID=America/Regina:20250320T210000
DTSTAMP:20250304T232913Z
URL:https://nightjardiner.co/events/beernight2025/
SUMMARY:Beer and Feast
DESCRIPTION:&nbsp\;\n$90/Guest (Tax &amp\; Gratuity Included)\nJoin the Cul
 inary team at Nightjar Diner Co. in welcoming Chris Mooney of Pile O'Bones
   Brewery and Nokomis Craft Ales for a extraordinary night of beer and fo
 od.\nOn Thursday\, March 20th\, 2025\, the Nightjar team will take guests 
 on an evening's journey through curated menu of locally inspired dishes\, 
 complementing the signature beers of two of Saskatchewan's Top Craft Brewe
 ries\nFor Reservations:\nCall (306) 773-2749\nEmail reservations@nightjard
 iner.co\n\n*Due to the nature of this menu\, dietary restrictions or menu 
 modifications are unable to be accommodated. Guests will be seated at two 
 communal long tables.\n\nBeer Dinner Menu\n*\nNightjar Light by Nokomis Cr
 aft Ales\nMussels\nTomato Concassé\, bacon\, Crusty bread &amp\; cultured
  brown butter\n\n*\nQuark Strangeness &amp\; Charm\nPappardelle al Tartufo
 \nHand-made pasta\, porcini cream\, truffles\, parma ham\n\n*\nVienna Lage
 r by Pile O'Bones\nOsso Bucco Tarte Tatin\nSpeckle Park Beef\, Videlia Oni
 on\, Berry\, Puff Pastry\n\n*\nZig Zag Wanderer by Nokomis Craft Ales\nDou
 ghnuts\nSweet potato brioche\, sugar\, Crème Diplomate\n\n*\n*Menu subjec
 t to change based on product availability
LOCATION:Nightjar Diner Co.\, 325 Central Avenue North\, Swift Current\, Sa
 skatchewan\, S9H0L5\, Canada
X-APPLE-STRUCTURED-LOCATION;VALUE=URI;X-ADDRESS=325 Central Avenue North\, 
 Swift Current\, Saskatchewan\, S9H0L5\, Canada;X-APPLE-RADIUS=100;X-TITLE=
 Nightjar Diner Co.:geo:0,0
END:VEVENT
BEGIN:VTIMEZONE
TZID:America/Regina
X-LIC-LOCATION:America/Regina
BEGIN:STANDARD
DTSTART:20240320T180000
TZOFFSETFROM:-0600
TZOFFSETTO:-0600
TZNAME:CST
END:STANDARD
END:VTIMEZONE
END:VCALENDAR