BEGIN:VCALENDAR
VERSION:2.0
PRODID:-//wp-events-plugin.com//7.2.3.1//EN
BEGIN:VEVENT
UID:5@nightjardiner.co
DTSTART;TZID=America/Regina:20231122T180000
DTEND;TZID=America/Regina:20231122T210000
DTSTAMP:20250802T052340Z
URL:https://nightjardiner.co/events/beef-beer/
SUMMARY:Beef & Beer
DESCRIPTION:&nbsp\;\n$100/Guest (Tax &amp\; Gratuity Included)\nJoin the Cu
 linary team at Nightjar Diner Co. in welcoming Trevor Desjarlais from Noko
 mis Craft Ales and Pile O'Bones Brewery.\nOn Wednesday\, November 22nd\, 2
 022\, the Nightjar team will take guests on an evening's journey through t
 wo of Saskatchewan's top breweries. Guests will have the opportunity to en
 joy a diverse assortment of beer flavourings and styles all paired with a 
 five-course menu.\nFor Reservations:\nCall (306) 773-2749\nEmail reservati
 ons@nightjardiner.co\n\n*Due to the nature of this menu\, dietary restrict
 ions or menu modifications are unable to be accommodated. Guests will be s
 eated at two communal long tables.\n\nBeef &amp\; Beer Dinner Menu\n"Zig Z
 ag Wanderer" Brett Saison (Nokomis Craft Ales)\nSweetbreads\nGribiche\, So
 urdough\, Vegetable Demi-glace\n\n*\nScotch Ale (Pile O'Bones Brewing Co.)
 \nCarpaccio\nOyster\, Caper\, Shallot\, Olive\, Malt Grissini\n\n*\nSchwin
 gungen Barrel Aged Sour (Nokomis Craft Ales)\nChicken Fried Steak\nWhite G
 ravy\, Peas\, Edamame\, Parsnip\n\n*\nVienna Style Lager (Pile O'Bones Bre
 wing Co.)\nWellington\nPastry\, Carrot\, Truffle\, Asparagus\n\n*\n"Levita
 tion" Russian Imperial Stout (Nokomis Craft Ales)\nTallow Ice Cream\nGochu
 jang Butterscotch\, Tallow\, Cookie Crumb\n\n*\n*Menu subject to change ba
 sed on product availability
LOCATION:Nightjar Diner Co.\, 325 Central Avenue North\, Swift Current\, Sa
 skatchewan\, S9H0L5\, Canada
X-APPLE-STRUCTURED-LOCATION;VALUE=URI;X-ADDRESS=325 Central Avenue North\, 
 Swift Current\, Saskatchewan\, S9H0L5\, Canada;X-APPLE-RADIUS=100;X-TITLE=
 Nightjar Diner Co.:geo:0,0
END:VEVENT
BEGIN:VTIMEZONE
TZID:America/Regina
X-LIC-LOCATION:America/Regina
BEGIN:STANDARD
DTSTART:20221122T180000
TZOFFSETFROM:-0600
TZOFFSETTO:-0600
TZNAME:CST
END:STANDARD
END:VTIMEZONE
END:VCALENDAR